BEGIN:VCALENDAR
VERSION:2.0
PRODID:-//wp-events-plugin.com//7.2.3.1//EN
TZID:America/New_York
X-WR-TIMEZONE:America/New_York
BEGIN:VEVENT
UID:22@civilia.ca
DTSTART;TZID=America/Toronto;VALUE=DATE:20251005
DTEND;TZID=America/Toronto;VALUE=DATE:20251009
DTSTAMP:20250527T155411Z
URL:https://civilia.ca/en/event/transportation-association-of-canada-tacco
 nf-2/
SUMMARY:Transportation Association of Canada (TACCONF)
DESCRIPTION:October 5-8 in Québec City\nTACCONF is the largest national ga
 thering of transportation professionals working in roads\, highways and ur
 ban transit in Canada. This annual event travels across the country and we
 lcomes more than 1\,400 participants from businesses\, governments (munici
 pal\, provincial\, territorial and federal)\, associations\, universities 
 and other organizations.
LOCATION:Centre des congrès de Québec\, 1000 Bd René-Lévesque E\, Québ
 ec\, Québec\, G1R 5T8\, Canada
X-APPLE-STRUCTURED-LOCATION;VALUE=URI;X-ADDRESS=1000 Bd René-Lévesque E\,
  Québec\, Québec\, G1R 5T8\, Canada;X-APPLE-RADIUS=100;X-TITLE=Centre de
 s congrès de Québec:geo:0,0
END:VEVENT
BEGIN:VTIMEZONE
TZID:America/Toronto
X-LIC-LOCATION:America/Toronto
BEGIN:DAYLIGHT
DTSTART:20250309T030000
TZOFFSETFROM:-0500
TZOFFSETTO:-0400
TZNAME:EDT
END:DAYLIGHT
END:VTIMEZONE
END:VCALENDAR