BEGIN:VCALENDAR
VERSION:2.0
PRODID:-//wp-events-plugin.com//7.2.3.1//EN
TZID:America/New_York
X-WR-TIMEZONE:America/New_York
BEGIN:VEVENT
UID:21@civilia.ca
DTSTART;TZID=America/Toronto;VALUE=DATE:20251005
DTEND;TZID=America/Toronto;VALUE=DATE:20251009
DTSTAMP:20250527T155328Z
URL:https://civilia.ca/evenement/association-des-transports-du-canada-tacc
 onf/
SUMMARY:Association des transports du Canada (TACCONF)
DESCRIPTION:5 au 8 octobre à Québec\n\nLe Congrès-exposition de l’ATC 
 est le plus grand rassemblement national de professionnels du transport tr
 availlant dans le domaine des routes\, des autoroutes et du transport urba
 in au Canada. L’événement annuel se déplace partout au pays et accuei
 lle plus de 1 400 participants provenant d’entreprises\, de gouvernement
 s (municipaux\, provinciaux\, territoriaux et fédéraux)\, d’associatio
 ns\, d’universités et d’autres organisations.
LOCATION:Centre des congrès de Québec\, 1000 Bd René-Lévesque E\, Québ
 ec\, Québec\, G1R 5T8\, Canada
X-APPLE-STRUCTURED-LOCATION;VALUE=URI;X-ADDRESS=1000 Bd René-Lévesque E\,
  Québec\, Québec\, G1R 5T8\, Canada;X-APPLE-RADIUS=100;X-TITLE=Centre de
 s congrès de Québec:geo:0,0
END:VEVENT
BEGIN:VTIMEZONE
TZID:America/Toronto
X-LIC-LOCATION:America/Toronto
BEGIN:DAYLIGHT
DTSTART:20250309T030000
TZOFFSETFROM:-0500
TZOFFSETTO:-0400
TZNAME:EDT
END:DAYLIGHT
END:VTIMEZONE
END:VCALENDAR