BEGIN:VCALENDAR
VERSION:2.0
PRODID:-//wp-events-plugin.com//7.2.3.1//EN
TZID:America/New_York
X-WR-TIMEZONE:America/New_York
BEGIN:VEVENT
UID:19@civilia.ca
DTSTART;TZID=America/Toronto;VALUE=DATE:20250925
DTEND;TZID=America/Toronto;VALUE=DATE:20250928
DTSTAMP:20250527T154838Z
URL:https://civilia.ca/evenement/federation-des-quebecoise-des-municipalit
 es-fmq/
SUMMARY:Fédération des québécoise des municipalités (FMQ)
DESCRIPTION:25 au 27 septembre à Québec\n\nLe Congrès annuel de la Féd
 ération québécoise des municipalités est un rendez-vous incontournable
  du monde municipal. Avec ses conférences de grande qualité\, ses atelie
 rs\, ses séances d'information et ses nombreuses activités de réseautag
 e\, le Congrès de la FQM est le plus important événement du monde munic
 ipal au Québec\; un moment phare pour la collaboration et le partage des 
 meilleures pratiques.
LOCATION:Centre des congrès de Québec\, 1000 Bd René-Lévesque E\, Québ
 ec\, Québec\, G1R 5T8\, Canada
X-APPLE-STRUCTURED-LOCATION;VALUE=URI;X-ADDRESS=1000 Bd René-Lévesque E\,
  Québec\, Québec\, G1R 5T8\, Canada;X-APPLE-RADIUS=100;X-TITLE=Centre de
 s congrès de Québec:geo:0,0
END:VEVENT
BEGIN:VTIMEZONE
TZID:America/Toronto
X-LIC-LOCATION:America/Toronto
BEGIN:DAYLIGHT
DTSTART:20250309T030000
TZOFFSETFROM:-0500
TZOFFSETTO:-0400
TZNAME:EDT
END:DAYLIGHT
END:VTIMEZONE
END:VCALENDAR